BEGIN:VCALENDAR
VERSION:2.0
PRODID:-//XYZ Machine Tools - ECPv6.7.0//NONSGML v1.0//EN
CALSCALE:GREGORIAN
METHOD:PUBLISH
X-WR-CALNAME:XYZ Machine Tools
X-ORIGINAL-URL:https://xyzmachinetools.com
X-WR-CALDESC:Events for XYZ Machine Tools
REFRESH-INTERVAL;VALUE=DURATION:PT1H
X-Robots-Tag:noindex
X-PUBLISHED-TTL:PT1H
BEGIN:VTIMEZONE
TZID:UTC
BEGIN:STANDARD
TZOFFSETFROM:+0000
TZOFFSETTO:+0000
TZNAME:UTC
DTSTART:20270101T000000
END:STANDARD
END:VTIMEZONE
BEGIN:VEVENT
DTSTART;TZID=UTC:20270202T093000
DTEND;TZID=UTC:20270204T163000
DTSTAMP:20260423T002546
CREATED:20260126T135734Z
LAST-MODIFIED:20260219T104210Z
UID:6952-1801560600-1801758600@xyzmachinetools.com
SUMMARY:Southern Manufacturing & Electronics Exhibition 2027
DESCRIPTION:
URL:https://xyzmachinetools.com/event/southern-manufacturing-electronics-exhibition-2026/
LOCATION:Farnborough Exhibition Centre\, Farnborough International Exhibition & Conference Centre\, Farnborough\, GU14 6TQ
ATTACH;FMTTYPE=image/jpeg:https://xyzmachinetools.com/wp-content/uploads/Untitled-design.jpg
ORGANIZER;CN="Southern Manufacturig & Electronics":MAILTO:enquiries@etes.co.uk
END:VEVENT
END:VCALENDAR